Workbook

Sheet Rekapitulace stavby
A1: Export VZ | D1: List obsahuje: | K1: 1) Rekapitulace stavby | W1: 2) Rekapitulace objektů stavby a soupisů prací | BA1: 3.0 | BB1: ZAMOK | BT1: False | BU1: False | BV1: {190f8c07-7906-4fec-b75a-2be33e53d31f}
BS2: 0,01 | BT2: 21
BS3: 0,01 | BT3: 15
D4: REKAPITULACE STAVBY | AS4: v --- níže se nacházejí doplnkové a pomocné údaje k sestavám --- v | BE4: Návod na vyplnění | BS4: 0,001
D5: Kód: | K5: 0012016 | BE5: Měnit lze pouze buňky se žlutým podbarvením!_x000D_ _x000D_ 1) v Rekapitulaci stavby vyplňte údaje o Uchazeči (přenesou se do ostatních sestav i v jiných listech)_x000D_ _x000D_ 2) na vybraných listech vyplňte v sestavě Soupis prací ceny u položek_x000D_ _x000D_ Podrobnosti k vyplnění naleznete na poslední záložce s Pokyny pro vyplnění | BS5: 0,01
D6: Stavba: | K6: Bytový dům Velké Hamry 433 | BS6: 0,1
D7: KSO: | K7: 803 42 12 | AK7: CC-CZ: | AN7: 11221 | BS7: 1
D8: Místo: | K8: Velké Hamry | AK8: Datum: | AN8: 13.12.2016 | BS8: 10
BS9: 100
D10: Zadavatel: | AK10: IČ: | AN10: 00262595 | BS10: 0,1
E11: Město Velké Hamry | AK11: DIČ: | AN11: CZ00262595 | BS11: 0,1
BS12: 0,1
D13: Uchazeč: | AK13: IČ: | AN13: Vyplň údaj | BS13: 0,1
E14: Vyplň údaj | AK14: DIČ: | AN14: Vyplň údaj | BS14: 0,1
BS15: False
D16: Projektant: | AK16: IČ: | AN16: 28480970 | BS16: False
E17: Comfort space, a.s. | AK17: DIČ: | AN17: CZ28480970 | BS17: False
BS18: 0,01
D19: Poznámka: | BS19: 0,01
E20: Soupis prací je sestaven s využitím Cenové soustavy ÚRS. Položky, které pochází z této cenové soustavy, jsou ve sloupci 'Cenová soustava' označeny popisem 'CS ÚRS' a úrovní příslušného kalendářního pololetí. Veškeré další informace vymezující popis a podmínky použití těchto položek z Cenové soustavy, které nejsou uvedeny přímo v soupisu prací, jsou neomezeně dálkově k dispozici na www.cs-urs.cz, sekce Cenové a technické podmínky. | BS20: False
D23: Cena bez DPH | AK23: =ROUND(AG51,2) -> 0
L25: Sazba daně | W25: Základ daně | AK25: Výše daně
D26: DPH | F26: základní | L26: 0.21 | W26: =ROUND(AZ51,2) -> 0 | AK26: =ROUND(AV51,2) -> 0
F27: snížená | L27: 0.15 | W27: =ROUND(BA51,2) -> 0 | AK27: =ROUND(AW51,2) -> 0
F28: zákl. přenesená | L28: 0.21 | W28: =ROUND(BB51,2) -> 0 | AK28: 0
F29: sníž. přenesená | L29: 0.15 | W29: =ROUND(BC51,2) -> 0 | AK29: 0
F30: nulová | L30: 0 | W30: =ROUND(BD51,2) -> 0 | AK30: 0
D32: Cena s DPH | T32: v | X32: CZK | AK32: =SUM(AK23:AK30) -> 0
C39: REKAPITULACE OBJEKTŮ STAVBY A SOUPISŮ PRACÍ
C41: Kód: | L41: =K5 -> 0012016
C42: Stavba: | L42: =K6 -> Bytový dům Velké Hamry 433
C44: Místo: | L44: =IF(K8="","",K8) -> Velké Hamry | AI44: Datum: | AM44: =IF(AN8= "","",AN8) -> 13.12.2016
C46: Zadavatel: | L46: =IF(E11= "","",E11) -> Město Velké Hamry | AI46: Projektant: | AM46: =IF(E17="","",E17) -> Comfort space, a.s. | AS46: Informatívní údaje z listů zakázek
C47: Uchazeč: | L47: =IF(E14= "Vyplň údaj","",E14)
C49: Kód | I49: Objekt, Soupis prací | AG49: Cena bez DPH [CZK] | AN49: Cena s DPH [CZK] | AQ49: Typ | AS49: z toho Ostat._x000D_ náklady [CZK] | AT49: DPH [CZK] | AU49: Normohodiny [h] | AV49: DPH základní [CZK] | AW49: DPH snížená [CZK] | AX49: DPH základní přenesená_x000D_ [CZK] | AY49: DPH snížená přenesená_x000D_ [CZK] | AZ49: Základna_x000D_ DPH základní | BA49: Základna_x000D_ DPH snížená | BB49: Základna_x000D_ DPH zákl. přenesená | BC49: Základna_x000D_ DPH sníž. přenesená | BD49: Základna_x000D_ DPH nulová
C51: Náklady stavby celkem | AG51: =ROUND(AG52,2) -> 0 | AN51: =SUM(AG51,AT51) -> 0 | AS51: =ROUND(AS52,2) -> 0 | AT51: =ROUND(SUM(AV51:AW51),2) -> 0 | AU51: =ROUND(AU52,5) -> 0 | AV51: =ROUND(AZ51*L26,2) -> 0 | AW51: =ROUND(BA51*L27,2) -> 0 | AX51: =ROUND(BB51*L26,2) -> 0 | AY51: =ROUND(BC51*L27,2) -> 0 | AZ51: =ROUND(AZ52,2) -> 0 | BA51: =ROUND(BA52,2) -> 0 | BB51: =ROUND(BB52,2) -> 0 | BC51: =ROUND(BC52,2) -> 0 | BD51: =ROUND(BD52,2) -> 0 | BS51: D | BT51: 0 | BU51: ###NOIMPORT### | BV51: IMPORT | BW51: {190f8c07-7906-4fec-b75a-2be33e53d31f} | BX51: {00000000-0000-0000-0000-000000000000} | CL51: 803 42 12
A52: / | D52: 658 | J52: Bytový dům Velké Hamry 433 | AG52: ='658 - Bytový dům Velké Ha...'!J27 -> 0 | AN52: =SUM(AG52,AT52) -> 0 | AQ52: STA | AS52: 0 | AT52: =ROUND(SUM(AV52:AW52),2) -> 0 | AU52: ='658 - Bytový dům Velké Ha...'!P103 -> 0 | AV52: ='658 - Bytový dům Velké Ha...'!J30 -> 0 | AW52: ='658 - Bytový dům Velké Ha...'!J31 -> 0 | AX52: ='658 - Bytový dům Velké Ha...'!J32 -> 0 | AY52: ='658 - Bytový dům Velké Ha...'!J33 -> 0 | AZ52: ='658 - Bytový dům Velké Ha...'!F30 -> 0 | BA52: ='658 - Bytový dům Velké Ha...'!F31 -> 0 | BB52: ='658 - Bytový dům Velké Ha...'!F32 -> 0 | BC52: ='658 - Bytový dům Velké Ha...'!F33 -> 0 | BD52: ='658 - Bytový dům Velké Ha...'!F34 -> 0 | BT52: 1 | BV52: IMPORT | BW52: {cc7e9de5-f835-4782-8af3-a97ec682b46b} | BX52: {190f8c07-7906-4fec-b75a-2be33e53d31f} | CL52: 803 41 12 | CM52: 1

Sheet 658 - Bytový dům Velké Ha...
D1: List obsahuje: | F1: 1) Krycí list soupisu | G1: 2) Rekapitulace | J1: 3) Soupis prací | K1: Zpět na list: | L1: Rekapitulace stavby
AT2: {cc7e9de5-f835-4782-8af3-a97ec682b46b}
AT3: 1
D4: KRYCÍ LIST SOUPISU | M4: v --- níže se nacházejí doplnkové a pomocné údaje k sestavám --- v | AT4: False
D6: Stavba:
E7: ='Rekapitulace stavby'!K6 -> Bytový dům Velké Hamry 433
D8: Objekt:
E9: 658 - Bytový dům Velké Hamry 433
D11: KSO: | F11: 803 41 12 | I11: CC-CZ:
D12: Místo: | F12: Velké Hamry | I12: Datum: | J12: ='Rekapitulace stavby'!AN8 -> 13.12.2016
D14: Zadavatel: | I14: IČ: | J14: 00262595
E15: Město Velké Hamry | I15: DIČ: | J15: CZ00262595
D17: Uchazeč: | I17: IČ: | J17: =IF('Rekapitulace stavby'!AN13="Vyplň údaj","",IF('Rekapitulace stavby'!AN13="","",'Rekapitulace stavby'!AN13))
E18: =IF('Rekapitulace stavby'!E14="Vyplň údaj","",IF('Rekapitulace stavby'!E14="","",'Rekapitulace stavby'!E14)) | I18: DIČ: | J18: =IF('Rekapitulace stavby'!AN14="Vyplň údaj","",IF('Rekapitulace stavby'!AN14="","",'Rekapitulace stavby'!AN14))
D20: Projektant: | I20: IČ: | J20: 28480970
E21: Comfort space, a.s. | I21: DIČ: | J21: CZ28480970
D23: Poznámka:
E24: Soupis prací je sestaven za využití položek CS ÚRS. Cenové a technické podmínky položek CS ÚRS, které nejsou uvedeny v soupisu prací (tzv. úvodní části katalogů) jsou neomezeně dílkově k dispozici na www.cs-urs.cz. Položky soupisu prací, které nemají ve sloupci "Cenová soustava" uveden žádný údaj, nepochází z CS ÚRS._x000D_ Je-li v kontrolním rozpočtu nebo v soupisu prací uvedena v kolonce ,,Název položky" obchodní značka jakéhokoliv materiálu nebo výrobku, má tento název pouze informativní charakter.
D27: Cena bez DPH | J27: =ROUND(J103,2) -> 0
F29: Základ daně | I29: Sazba daně | J29: Výše daně
D30: DPH | E30: základní | F30: =ROUND(SUM(BE103:BE359), 2) -> 0 | I30: 0.21 | J30: =ROUND(ROUND((SUM(BE103:BE359)), 2)*I30, 2) -> 0
E31: snížená | F31: =ROUND(SUM(BF103:BF359), 2) -> 0 | I31: 0.15 | J31: =ROUND(ROUND((SUM(BF103:BF359)), 2)*I31, 2) -> 0
E32: zákl. přenesená | F32: =ROUND(SUM(BG103:BG359), 2) -> 0 | I32: 0.21 | J32: 0
E33: sníž. přenesená | F33: =ROUND(SUM(BH103:BH359), 2) -> 0 | I33: 0.15 | J33: 0
E34: nulová | F34: =ROUND(SUM(BI103:BI359), 2) -> 0 | I34: 0 | J34: 0
D36: Cena s DPH | G36: v | H36: CZK | J36: =SUM(J27:J34) -> 0
C42: REKAPITULACE ČLENĚNÍ SOUPISU PRACÍ
C44: Stavba:
E45: =E7 -> Bytový dům Velké Hamry 433
C46: Objekt:
E47: =E9 -> 658 - Bytový dům Velké Hamry 433
C49: Místo: | F49: =F12 -> Velké Hamry | I49: Datum: | J49: =IF(J12="","",J12) -> 13.12.2016
C51: Zadavatel: | F51: =E15 -> Město Velké Hamry | I51: Projektant: | J51: =E21 -> Comfort space, a.s.
C52: Uchazeč: | F52: =IF(E18="","",E18)
C54: Kód dílu - Popis | J54: Cena celkem [CZK]
C56: Náklady soupisu celkem | J56: =J103 -> 0 | AU56: -1
D57: HSV - Práce a dodávky HSV | J57: =J104 -> 0
D58: 3 - Svislé a kompletní konstrukce | J58: =J105 -> 0
D59: 6 - Úpravy povrchů, podlahy a osazování výplní | J59: =J109 -> 0
D60: 9 - Ostatní konstrukce a práce, bourání | J60: =J179 -> 0
D61: 997 - Přesun sutě | J61: =J224 -> 0
D62: 998 - Přesun hmot | J62: =J230 -> 0
D63: PSV - Práce a dodávky PSV | J63: =J232 -> 0
D64: 713 - Izolace tepelné | J64: =J233 -> 0
D65: 721 - Zdravotechnika - vnitřní kanalizace | J65: =J242 -> 0
D66: 722 - Zdravotechnika - vnitřní vodovod | J66: =J245 -> 0
D67: 725 - Zdravotechnika - zařizovací předměty | J67: =J249 -> 0
D68: 732 - Ústřední vytápění - strojovny | J68: =J254 -> 0
D69: 735 - Ústřední vytápění - otopná tělesa | J69: =J258 -> 0
D70: 741 - Elektromontáže - vzdušné vedení | J70: =J262 -> 0
D71: 743 - Elektromontáže - hrubá montáž | J71: =J274 -> 0
D72: 762 - Konstrukce tesařské | J72: =J279 -> 0
D73: 766 - Konstrukce truhlářské | J73: =J285 -> 0
D74: 771 - Podlahy z dlaždic | J74: =J321 -> 0
D75: 775 - Podlahy skládané | J75: =J328 -> 0
D76: 781 - Dokončovací práce - obklady | J76: =J332 -> 0
D77: 784 - Dokončovací práce - malby a tapety | J77: =J336 -> 0
D78: HZS - Hodinové zúčtovací sazby | J78: =J341 -> 0
D79: VRN - Vedlejší rozpočtové náklady | J79: =J346 -> 0
D80: VRN3 - Zařízení staveniště | J80: =J347 -> 0
D81: VRN4 - Inženýrská činnost | J81: =J352 -> 0
D82: VRN5 - Finanční náklady | J82: =J356 -> 0
D83: VRN8 - Přesun stavebních kapacit | J83: =J358 -> 0
C90: SOUPIS PRACÍ
C92: Stavba:
E93: =E7 -> Bytový dům Velké Hamry 433
C94: Objekt:
E95: =E9 -> 658 - Bytový dům Velké Hamry 433
C97: Místo: | F97: =F12 -> Velké Hamry | I97: Datum: | J97: =IF(J12="","",J12) -> 13.12.2016
C99: Zadavatel: | F99: =E15 -> Město Velké Hamry | I99: Projektant: | J99: =E21 -> Comfort space, a.s.
C100: Uchazeč: | F100: =IF(E18="","",E18)
C102: PČ | D102: Typ | E102: Kód | F102: Popis | G102: MJ | H102: Množství | I102: J.cena [CZK] | J102: Cena celkem [CZK] | K102: Cenová soustava | M102: Poznámka | N102: DPH | O102: J. Nh [h] | P102: Nh celkem [h] | Q102: J. hmotnost_x000D_ [t] | R102: Hmotnost_x000D_ celkem [t] | S102: J. suť [t] | T102: Suť Celkem [t]
C103: Náklady soupisu celkem | J103: =BK103 -> 0 | P103: =P104+P232+P341+P346 -> 0 | R103: =R104+R232+R341+R346 -> 72.666222 | T103: =T104+T232+T341+T346 -> 89.74099 | AT103: D | AU103: -1 | BK103: =BK104+BK232+BK341+BK346 -> 0
D104: D | E104: HSV | F104: Práce a dodávky HSV | J104: =BK104 -> 0 | P104: =P105+P109+P179+P224+P230 -> 0 | R104: =R105+R109+R179+R224+R230 -> 65.763194 | T104: =T105+T109+T179+T224+T230 -> 89.35699 | AR104: 1 | AT104: D | AU104: 0 | AY104: ROZPOCET | BK104: =BK105+BK109+BK179+BK224+BK230 -> 0
D105: D | E105: 3 | F105: Svislé a kompletní konstrukce | J105: =BK105 -> 0 | P105: =SUM(P106:P108) -> 0 | R105: =SUM(R106:R108) -> 4.2525929 | T105: =SUM(T106:T108) -> 0 | AR105: 1 | AT105: D | AU105: 1 | AY105: ROZPOCET | BK105: =SUM(BK106:BK108) -> 0
C106: 1 | D106: K | E106: 342272523 | F106: Příčky z pórobetonových přesných příčkovek (YTONG) hladkých, objemové hmotnosti 500 kg/m3 na tenké maltové lože, tloušťky příčky 150 mm | G106: m2 | H106: 40.804 | J106: =ROUND(I106*H106,2) -> 0 | K106: CS ÚRS 2016 01 | N106: snížená | P106: =O106*H106 -> 0 | Q106: 0.10422 | R106: =Q106*H106 -> 4.2525929 | S106: 0 | T106: =S106*H106 -> 0 | AR106: 4 | AT106: K | AU106: 2 | AY106: ROZPOCET | BE106: =IF(N106="základní",J106,0) -> 0 | BF106: =IF(N106="snížená",J106,0) -> 0 | BG106: =IF(N106="zákl. přenesená",J106,0) -> 0 | BH106: =IF(N106="sníž. přenesená",J106,0) -> 0 | BI106: =IF(N106="nulová",J106,0) -> 0 | BJ106: 2 | BK106: =ROUND(I106*H106,2) -> 0 | BL106: 4 | BM106: 872027224
D107: VV | F107: (0,8*2+0,8*2+0,9*2,82+1,7*2,82+3,5*2,82)*2 | H107: 40.804 | AT107: VV | AU107: 2 | AV107: 2 | AW107: True | AX107: 0 | AY107: ROZPOCET
D108: VV | F108: Součet | H108: 40.804 | AT108: VV | AU108: 2 | AV108: 4 | AW108: True | AX108: 1 | AY108: ROZPOCET
D109: D | E109: 6 | F109: Úpravy povrchů, podlahy a osazování výplní | J109: =BK109 -> 0 | P109: =SUM(P110:P178) -> 0 | R109: =SUM(R110:R178) -> 61.483758 | T109: =SUM(T110:T178) -> 0 | AR109: 1 | AT109: D | AU109: 1 | AY109: ROZPOCET | BK109: =SUM(BK110:BK178) -> 0
C110: 2 | D110: K | E110: 611321141 | F110: Omítka vápenocementová vnitřních ploch nanášená ručně dvouvrstvá, tloušťky jádrové omítky do 10 mm a tloušťky štuku do 3 mm štuková vodorovných konstrukcí stropů rovných | G110: m2 | H110: 133.6 | J110: =ROUND(I110*H110,2) -> 0 | K110: CS ÚRS 2016 01 | N110: snížená | P110: =O110*H110 -> 0 | Q110: 0.01838 | R110: =Q110*H110 -> 2.455568 | S110: 0 | T110: =S110*H110 -> 0 | AR110: 4 | AT110: K | AU110: 2 | AY110: ROZPOCET | BE110: =IF(N110="základní",J110,0) -> 0 | BF110: =IF(N110="snížená",J110,0) -> 0 | BG110: =IF(N110="zákl. přenesená",J110,0) -> 0 | BH110: =IF(N110="sníž. přenesená",J110,0) -> 0 | BI110: =IF(N110="nulová",J110,0) -> 0 | BJ110: 2 | BK110: =ROUND(I110*H110,2) -> 0 | BL110: 4 | BM110: -173178880
C111: 3 | D111: K | E111: 611325412 | F111: Oprava vápenocementové nebo vápenné omítky vnitřních ploch hladké, tloušťky do 20 mm stropů, v rozsahu opravované plochy přes 10 do 30% | G111: m2 | H111: 133.6 | J111: =ROUND(I111*H111,2) -> 0 | K111: CS ÚRS 2016 01 | N111: snížená | P111: =O111*H111 -> 0 | Q111: 0.0169 | R111: =Q111*H111 -> 2.25784 | S111: 0 | T111: =S111*H111 -> 0 | AR111: 4 | AT111: K | AU111: 2 | AY111: ROZPOCET | BE111: =IF(N111="základní",J111,0) -> 0 | BF111: =IF(N111="snížená",J111,0) -> 0 | BG111: =IF(N111="zákl. přenesená",J111,0) -> 0 | BH111: =IF(N111="sníž. přenesená",J111,0) -> 0 | BI111: =IF(N111="nulová",J111,0) -> 0 | BJ111: 2 | BK111: =ROUND(I111*H111,2) -> 0 | BL111: 4 | BM111: 561492804
C112: 4 | D112: K | E112: 612142001 | F112: Potažení vnitřních ploch pletivem v ploše nebo pruzích, na plném podkladu sklovláknitým vtlačením do tmelu stěn | G112: m2 | H112: 81.608 | J112: =ROUND(I112*H112,2) -> 0 | K112: CS ÚRS 2016 01 | N112: snížená | P112: =O112*H112 -> 0 | Q112: 0.00489 | R112: =Q112*H112 -> 0.39906312 | S112: 0 | T112: =S112*H112 -> 0 | AR112: 4 | AT112: K | AU112: 2 | AY112: ROZPOCET | BE112: =IF(N112="základní",J112,0) -> 0 | BF112: =IF(N112="snížená",J112,0) -> 0 | BG112: =IF(N112="zákl. přenesená",J112,0) -> 0 | BH112: =IF(N112="sníž. přenesená",J112,0) -> 0 | BI112: =IF(N112="nulová",J112,0) -> 0 | BJ112: 2 | BK112: =ROUND(I112*H112,2) -> 0 | BL112: 4 | BM112: 279914196
D113: VV | F113: 40,804*2 | H113: 81.608 | AT113: VV | AU113: 2 | AV113: 2 | AW113: True | AX113: 0 | AY113: ROZPOCET
D114: VV | F114: Součet | H114: 81.608 | AT114: VV | AU114: 2 | AV114: 4 | AW114: True | AX114: 1 | AY114: ROZPOCET
C115: 5 | D115: K | E115: 612321141 | F115: Omítka vápenocementová vnitřních ploch nanášená ručně dvouvrstvá, tloušťky jádrové omítky do 10 mm a tloušťky štuku do 3 mm štuková svislých konstrukcí stěn | G115: m2 | H115: 521.866 | J115: =ROUND(I115*H115,2) -> 0 | K115: CS ÚRS 2016 01 | N115: snížená | P115: =O115*H115 -> 0 | Q115: 0.01838 | R115: =Q115*H115 -> 9.5918971 | S115: 0 | T115: =S115*H115 -> 0 | AR115: 4 | AT115: K | AU115: 2 | AY115: ROZPOCET | BE115: =IF(N115="základní",J115,0) -> 0 | BF115: =IF(N115="snížená",J115,0) -> 0 | BG115: =IF(N115="zákl. přenesená",J115,0) -> 0 | BH115: =IF(N115="sníž. přenesená",J115,0) -> 0 | BI115: =IF(N115="nulová",J115,0) -> 0 | BJ115: 2 | BK115: =ROUND(I115*H115,2) -> 0 | BL115: 4 | BM115: -1178794073
D116: VV | F116: 440,258+81,608 | H116: 521.866 | AT116: VV | AU116: 2 | AV116: 2 | AW116: True | AX116: 0 | AY116: ROZPOCET
D117: VV | F117: Součet | H117: 521.866 | AT117: VV | AU117: 2 | AV117: 4 | AW117: True | AX117: 1 | AY117: ROZPOCET
C118: 6 | D118: K | E118: 612325412 | F118: Oprava vápenocementové nebo vápenné omítky vnitřních ploch hladké, tloušťky do 20 mm stěn, v rozsahu opravované plochy přes 10 do 30% | G118: m2 | H118: 440.258 | J118: =ROUND(I118*H118,2) -> 0 | K118: CS ÚRS 2016 01 | N118: snížená | P118: =O118*H118 -> 0 | Q118: 0.0156 | R118: =Q118*H118 -> 6.8680248 | S118: 0 | T118: =S118*H118 -> 0 | AR118: 4 | AT118: K | AU118: 2 | AY118: ROZPOCET | BE118: =IF(N118="základní",J118,0) -> 0 | BF118: =IF(N118="snížená",J118,0) -> 0 | BG118: =IF(N118="zákl. přenesená",J118,0) -> 0 | BH118: =IF(N118="sníž. přenesená",J118,0) -> 0 | BI118: =IF(N118="nulová",J118,0) -> 0 | BJ118: 2 | BK118: =ROUND(I118*H118,2) -> 0 | BL118: 4 | BM118: 1020577886
C119: 7 | D119: K | E119: 619995001 | F119: Začištění omítek (s dodáním hmot) kolem oken, dveří, podlah, obkladů apod. | G119: m | H119: 93.32 | J119: =ROUND(I119*H119,2) -> 0 | K119: CS ÚRS 2016 01 | N119: snížená | P119: =O119*H119 -> 0 | Q119: 0.0015 | R119: =Q119*H119 -> 0.13998 | S119: 0 | T119: =S119*H119 -> 0 | AR119: 4 | AT119: K | AU119: 2 | AY119: ROZPOCET | BE119: =IF(N119="základní",J119,0) -> 0 | BF119: =IF(N119="snížená",J119,0) -> 0 | BG119: =IF(N119="zákl. přenesená",J119,0) -> 0 | BH119: =IF(N119="sníž. přenesená",J119,0) -> 0 | BI119: =IF(N119="nulová",J119,0) -> 0 | BJ119: 2 | BK119: =ROUND(I119*H119,2) -> 0 | BL119: 4 | BM119: -1926938463
D120: VV | F120: 2*(0,45*2+0,85*2)+8*(0,66*2+1,33*2)+2*(0,5*2+0,5*2)+2*(0,82*2+1,62*2) | H120: 50.8 | AT120: VV | AU120: 2 | AV120: 2 | AW120: True | AX120: 0 | AY120: ROZPOCET
D121: VV | F121: 6*(0,62*2+0,62*2)+5*(0,62*2+0,4*2)+2*(0,9*2+0,9*2) | H121: 32.28 | AT121: VV | AU121: 2 | AV121: 2 | AW121: True | AX121: 0 | AY121: ROZPOCET
D122: VV | F122: 1,97*2+1+1,3+2*2 | H122: 10.24 | AT122: VV | AU122: 2 | AV122: 2 | AW122: True | AX122: 0 | AY122: ROZPOCET
D123: VV | F123: Součet | H123: 93.32 | AT123: VV | AU123: 2 | AV123: 4 | AW123: True | AX123: 1 | AY123: ROZPOCET
C124: 8 | D124: K | E124: 622143004 | F124: Montáž omítkových profilů plastových nebo pozinkovaných, upevněných vtlačením do podkladní vrstvy nebo přibitím začišťovacích samolepících (APU lišty) | G124: m | H124: 126.1 | J124: =ROUND(I124*H124,2) -> 0 | K124: CS ÚRS 2016 01 | N124: snížená | P124: =O124*H124 -> 0 | Q124: 0 | R124: =Q124*H124 -> 0 | S124: 0 | T124: =S124*H124 -> 0 | AR124: 4 | AT124: K | AU124: 2 | AY124: ROZPOCET | BE124: =IF(N124="základní",J124,0) -> 0 | BF124: =IF(N124="snížená",J124,0) -> 0 | BG124: =IF(N124="zákl. přenesená",J124,0) -> 0 | BH124: =IF(N124="sníž. přenesená",J124,0) -> 0 | BI124: =IF(N124="nulová",J124,0) -> 0 | BJ124: 2 | BK124: =ROUND(I124*H124,2) -> 0 | BL124: 4 | BM124: -1732868754
D125: VV | F125: 50,8*2+32,28+10,24-52,5+4*(1,66+1,33*2)+8*(0,45+0,85*2) | H125: 126.1 | AT125: VV | AU125: 2 | AV125: 2 | AW125: True | AX125: 0 | AY125: ROZPOCET
D126: VV | F126: Součet | H126: 126.1 | AT126: VV | AU126: 2 | AV126: 4 | AW126: True | AX126: 1 | AY126: ROZPOCET
C127: 9 | D127: M | E127: 590514760 | F127: Kontaktní zateplovací systémy příslušenství kontaktních zateplovacích systémů profil okenní začišťovací s tkaninou 9 mm/2,4 m | G127: m | H127: 132.405 | J127: =ROUND(I127*H127,2) -> 0 | K127: CS ÚRS 2016 01 | N127: snížená | P127: =O127*H127 -> 0 | Q127: 4e-05 | R127: =Q127*H127 -> 0.0052962 | S127: 0 | T127: =S127*H127 -> 0 | AR127: 8 | AT127: M | AU127: 2 | AY127: ROZPOCET | BE127: =IF(N127="základní",J127,0) -> 0 | BF127: =IF(N127="snížená",J127,0) -> 0 | BG127: =IF(N127="zákl. přenesená",J127,0) -> 0 | BH127: =IF(N127="sníž. přenesená",J127,0) -> 0 | BI127: =IF(N127="nulová",J127,0) -> 0 | BJ127: 2 | BK127: =ROUND(I127*H127,2) -> 0 | BL127: 4 | BM127: 1378993983
D128: P | F128: Poznámka k položce: délka 2,4 m, přesah tkaniny 100 mm | AT128: P | AU128: 2
D129: VV | F129: 126,1*1,05 'Přepočtené koeficientem množství | H129: 132.405 | AT129: VV | AU129: 2 | AV129: 2 | AW129: False | AX129: 1 | AY129: ROZPOCET
C130: 10 | D130: K | E130: 622211021 | F130: Montáž kontaktního zateplení z polystyrenových desek nebo z kombinovaných desek na vnější stěny, tloušťky desek přes 80 do 120 mm | G130: m2 | H130: 432.467 | J130: =ROUND(I130*H130,2) -> 0 | K130: CS ÚRS 2016 01 | N130: snížená | P130: =O130*H130 -> 0 | Q130: 0.00832 | R130: =Q130*H130 -> 3.5981254 | S130: 0 | T130: =S130*H130 -> 0 | AR130: 4 | AT130: K | AU130: 2 | AY130: ROZPOCET | BE130: =IF(N130="základní",J130,0) -> 0 | BF130: =IF(N130="snížená",J130,0) -> 0 | BG130: =IF(N130="zákl. přenesená",J130,0) -> 0 | BH130: =IF(N130="sníž. přenesená",J130,0) -> 0 | BI130: =IF(N130="nulová",J130,0) -> 0 | BJ130: 2 | BK130: =ROUND(I130*H130,2) -> 0 | BL130: 4 | BM130: -1782972536
...

Sheet Pokyny pro vyplnění
C3: Struktura údajů, formát souboru a metodika pro zpracování
C4: Struktura
C6: Soubor je složen ze záložky Rekapitulace stavby a záložek s názvem soupisu prací pro jednotlivé objekty ve formátu XLSX. Každá ze záložek přitom obsahuje
C7: ještě samostatné sestavy vymezené orámovaním a nadpisem sestavy.
C9: Rekapitulace stavby obsahuje sestavu Rekapitulace stavby a Rekapitulace objektů stavby a soupisů prací.
D10: V sestavě Rekapitulace stavby jsou uvedeny informace identifikující předmět veřejné zakázky na stavební práce, KSO, CC-CZ, CZ-CPV, CZ-CPA a rekapitulaci
D11: celkové nabídkové ceny uchazeče.
D13: V sestavě Rekapitulace objektů stavby a soupisů prací je uvedena rekapitulace stavebních objektů, inženýrských objektů, provozních souborů,
D14: vedlejších a ostatních nákladů a ostatních nákladů s rekapitulací nabídkové ceny za jednotlivé soupisy prací. Na základě údaje Typ je možné
D15: identifikovat, zda se jedná o objekt nebo soupis prací pro daný objekt:
E16: STA | F16: Stavební objekt pozemní
E17: ING | F17: Stavební objekt inženýrský
E18: PRO | F18: Provozní soubor
E19: VON | F19: Vedlejší a ostatní náklady
E20: OST | F20: Ostatní
E21: Soupis | F21: Soupis prací pro daný typ objektu
C23: Soupis prací pro jednotlivé objekty obsahuje sestavy Krycí list soupisu, Rekapitulace členění soupisu prací, Soupis prací. Za soupis prací může být považován
C24: i objekt stavby v případě, že neobsahuje podřízenou zakázku.
D25: Krycí list soupisu obsahuje rekapitulaci informací o předmětu veřejné zakázky ze sestavy Rekapitulace stavby, informaci o zařazení objektu do KSO,
D26: CC-CZ, CZ-CPV, CZ-CPA a rekapitulaci celkové nabídkové ceny uchazeče za aktuální soupis prací.
D28: Rekapitulace členění soupisu prací obsahuje rekapitulaci soupisu prací ve všech úrovních členění soupisu tak, jak byla tato členění použita (např.
D29: stavební díly, funkční díly, případně jiné členění) s rekapitulací nabídkové ceny.
D31: Soupis prací obsahuje položky veškerých stavebních nebo montážních prací, dodávek materiálů a služeb nezbytných pro zhotovení stavebního objektu,
D32: inženýrského objektu, provozního souboru, vedlejších a ostatních nákladů.
D33: Pro položky soupisu prací se zobrazují následující informace:
E34: PČ | G34: Pořadové číslo položky v aktuálním soupisu
E35: TYP | G35: Typ položky: K - konstrukce, M - materiál, PP - plný popis, PSC - poznámka k souboru cen, P - poznámka k položce, VV - výkaz výměr
E36: Kód | G36: Kód položky
E37: Popis | G37: Zkrácený popis položky
E38: MJ | G38: Měrná jednotka položky
E39: Množství | G39: Množství v měrné jednotce
E40: J.cena | G40: Jednotková cena položky. Zadaní může obsahovat namísto J.ceny sloupce J.materiál a J.montáž, jejichž součet definuje
G41: J.cenu položky.
E42: Cena celkem | G42: Celková cena položky daná jako součin množství a j.ceny
E43: Cenová soustava | G43: Příslušnost položky do cenové soustavy
D45: Ke každé položce soupisu prací se na samostatných řádcích může zobrazovat:
E46: Plný popis položky
E47: Poznámka k souboru cen a poznámka zadavatele
E48: Výkaz výměr
D49: Pokud je k řádku výkazu výměr evidovaný údaj ve sloupci Kód, jedná se o definovaný odkaz, na který se může odvolávat výkaz výměr z jiné položky.
C50: Metodika pro zpracování
C52: Jednotlivé sestavy jsou v souboru provázány. Editovatelné pole jsou zvýrazněny žlutým podbarvením, ostatní pole neslouží k editaci a nesmí být jakkoliv
C53: modifikovány.
C55: Uchazeč je pro podání nabídky povinen vyplnit žlutě podbarvená pole:
D56: Pole Uchazeč v sestavě Rekapitulace stavby - zde uchazeč vyplní svůj název (název subjektu)
D57: Pole IČ a DIČ v sestavě Rekapitulace stavby - zde uchazeč vyplní svoje IČ a DIČ
D58: Datum v sestavě Rekapitulace stavby - zde uchazeč vyplní datum vytvoření nabídky
D59: J.cena = jednotková cena v sestavě Soupis prací o maximálním počtu desetinných míst uvedených v poli
D60: - pokud sestavy soupisů prací obsahují pole J.cena, musí být všechna tato pole vyplněna nenulovými kladnými číslicemi
D61: Poznámka - nepovinný údaj pro položku soupisu
D63: V případě, že sestavy soupisů prací neobsahují pole J.cena, potom ve všech soupisech prací obsahují pole:
D64: - J.materiál - jednotková cena materiálu
D65: - J.montáž - jednotková cena montáže
D66: Uchazeč je v tomto případě povinen vyplnit všechna pole J.materiál a pole J.montáž nenulovými kladnými číslicemi. V případech, kdy položka
D67: neobsahuje žádný materiál je přípustné, aby pole J.materiál bylo vyplněno nulou. V případech, kdy položka neobsahuje žádnou montáž je přípustné,
D68: aby pole J.montáž bylo vyplněno nulou. Není však přípustné, aby obě pole - J.materiál, J.Montáž byly u jedné položky vyplněny nulou.
C73: Rekapitulace stavby
C74: Název | F74: Povinný | H74: Popis | I74: Typ | J74: Max. počet
C75: atributu | F75: (A/N) | J75: znaků
C77: Kód | F77: A | H77: Kód stavby | I77: String | J77: 20
C78: Stavba | F78: A | H78: Název stavby | I78: String | J78: 120
C79: Místo | F79: N | H79: Místo stavby | I79: String | J79: 50
C80: Datum | F80: A | H80: Datum vykonaného exportu | I80: Date
C81: KSO | F81: N | H81: Klasifikace stavebního objektu | I81: String | J81: 15
C82: CC-CZ | F82: N | H82: Klasifikace stavbeních děl | I82: String | J82: 15
C83: CZ-CPV | F83: N | H83: Společný slovník pro veřejné zakázky | I83: String | J83: 20
C84: CZ-CPA | F84: N | H84: Klasifikace produkce podle činností | I84: String | J84: 20
C85: Zadavatel | F85: N | H85: Zadavatel zadaní | I85: String | J85: 50
C86: IČ | F86: N | H86: IČ zadavatele zadaní | I86: String | J86: 20
C87: DIČ | F87: N | H87: DIČ zadavatele zadaní | I87: String | J87: 20
C88: Uchazeč | F88: N | H88: Uchazeč veřejné zakázky | I88: String | J88: 50
C89: Projektant | F89: N | H89: Projektant | I89: String | J89: 50
C90: Poznámka | F90: N | H90: Poznámka k zadání | I90: String | J90: 255
C91: Sazba DPH | F91: A | H91: Rekapitulace sazeb DPH u položek soupisů | I91: eGSazbaDph
C92: Základna DPH | F92: A | H92: Základna DPH určena součtem celkové ceny z položek soupisů | I92: Double
C93: Hodnota DPH | F93: A | H93: Hodnota DPH | I93: Double
C94: Cena bez DPH | F94: A | H94: Celková cena bez DPH za celou stavbu. Sčítává se ze všech listů. | I94: Double
C95: Cena s DPH | F95: A | H95: Celková cena s DPH za celou stavbu | I95: Double
C100: Rekapitulace objektů stavby a soupisů prací
C101: Název | F101: Povinný | H101: Popis | I101: Typ | J101: Max. počet
C102: atributu | F102: (A/N) | J102: znaků
C104: Kód | F104: A | H104: Přebírá se z Rekapitulace stavby | I104: String | J104: 20
C105: Stavba | F105: A | H105: Přebírá se z Rekapitulace stavby | I105: String | J105: 120
C106: Místo | F106: N | H106: Přebírá se z Rekapitulace stavby | I106: String | J106: 50
C107: Datum | F107: A | H107: Přebírá se z Rekapitulace stavby | I107: Date
C108: Zadavatel | F108: N | H108: Přebírá se z Rekapitulace stavby | I108: String | J108: 50
C109: Projektant | F109: N | H109: Přebírá se z Rekapitulace stavby | I109: String | J109: 50
C110: Uchazeč | F110: N | H110: Přebírá se z Rekapitulace stavby | I110: String | J110: 50
C111: Kód | F111: A | H111: Kód objektu | I111: String | J111: 20
C112: Objektu, Soupis prací | F112: A | H112: Název objektu | I112: String | J112: 120
C113: Cena bez DPH | F113: A | H113: Cena bez DPH za daný objekt | I113: Double
C114: Cena s DPH | F114: A | H114: Cena spolu s DPH za daný objekt | I114: Double
C115: Typ | F115: A | H115: Typ zakázky | I115: eGTypZakazky
C120: Krycí list soupisu
C121: Název | F121: Povinný | H121: Popis | I121: Typ | J121: Max. počet
C122: atributu | F122: (A/N) | J122: znaků
C124: Stavba | F124: A | H124: Přebírá se z Rekapitulace stavby | I124: String | J124: 120
C125: Objekt | F125: A | H125: Kód a název objektu | I125: String | J125: 20 + 120
C126: Soupis | F126: A | H126: Kód a název soupisu | I126: String | J126: 20 + 120
C127: KSO | F127: N | H127: Klasifikace stavebního objektu | I127: String | J127: 15
...
